BEGIN:VCALENDAR
VERSION:2.0
PRODID:-//Escape Zone Carlos Paz - ECPv6.15.18//NONSGML v1.0//EN
CALSCALE:GREGORIAN
METHOD:PUBLISH
X-WR-CALNAME:Escape Zone Carlos Paz
X-ORIGINAL-URL:https://escapecarlospaz.com
X-WR-CALDESC:Eventos para Escape Zone Carlos Paz
REFRESH-INTERVAL;VALUE=DURATION:PT1H
X-Robots-Tag:noindex
X-PUBLISHED-TTL:PT1H
BEGIN:VTIMEZONE
TZID:UTC
BEGIN:STANDARD
TZOFFSETFROM:+0000
TZOFFSETTO:+0000
TZNAME:UTC
DTSTART:20240101T000000
END:STANDARD
END:VTIMEZONE
BEGIN:VEVENT
DTSTART;TZID=UTC:20250409T153000
DTEND;TZID=UTC:20250410T170000
DTSTAMP:20260419T140909
CREATED:20250409T150022Z
LAST-MODIFIED:20250409T152307Z
UID:909-1744212600-1744304400@escapecarlospaz.com
SUMMARY:Candy
DESCRIPTION:Sala candy para hasta 5 personas  aca va la descripsion de la sala
URL:https://escapecarlospaz.com/reserva/candy/
LOCATION:Escape Zone Carlos Paz
END:VEVENT
END:VCALENDAR